BEGIN:VCALENDAR
VERSION:2.0
PRODID:-//Future Cast - ECPv6.15.20//NONSGML v1.0//EN
CALSCALE:GREGORIAN
METHOD:PUBLISH
X-ORIGINAL-URL:https://futurecast.info
X-WR-CALDESC:Events for Future Cast
REFRESH-INTERVAL;VALUE=DURATION:PT1H
X-Robots-Tag:noindex
X-PUBLISHED-TTL:PT1H
BEGIN:VTIMEZONE
TZID:Europe/London
BEGIN:DAYLIGHT
TZOFFSETFROM:+0000
TZOFFSETTO:+0100
TZNAME:BST
DTSTART:20240331T010000
END:DAYLIGHT
BEGIN:STANDARD
TZOFFSETFROM:+0100
TZOFFSETTO:+0000
TZNAME:GMT
DTSTART:20241027T010000
END:STANDARD
BEGIN:DAYLIGHT
TZOFFSETFROM:+0000
TZOFFSETTO:+0100
TZNAME:BST
DTSTART:20250330T010000
END:DAYLIGHT
BEGIN:STANDARD
TZOFFSETFROM:+0100
TZOFFSETTO:+0000
TZNAME:GMT
DTSTART:20251026T010000
END:STANDARD
BEGIN:DAYLIGHT
TZOFFSETFROM:+0000
TZOFFSETTO:+0100
TZNAME:BST
DTSTART:20260329T010000
END:DAYLIGHT
BEGIN:STANDARD
TZOFFSETFROM:+0100
TZOFFSETTO:+0000
TZNAME:GMT
DTSTART:20261025T010000
END:STANDARD
BEGIN:DAYLIGHT
TZOFFSETFROM:+0000
TZOFFSETTO:+0100
TZNAME:BST
DTSTART:20270328T010000
END:DAYLIGHT
BEGIN:STANDARD
TZOFFSETFROM:+0100
TZOFFSETTO:+0000
TZNAME:GMT
DTSTART:20271031T010000
END:STANDARD
END:VTIMEZONE
BEGIN:VTIMEZONE
TZID:Europe/Dublin
BEGIN:STANDARD
TZOFFSETFROM:+0000
TZOFFSETTO:+0100
TZNAME:IST
DTSTART:20240331T010000
END:STANDARD
BEGIN:DAYLIGHT
TZOFFSETFROM:+0100
TZOFFSETTO:+0000
TZNAME:GMT
DTSTART:20241027T010000
END:DAYLIGHT
BEGIN:STANDARD
TZOFFSETFROM:+0000
TZOFFSETTO:+0100
TZNAME:IST
DTSTART:20250330T010000
END:STANDARD
BEGIN:DAYLIGHT
TZOFFSETFROM:+0100
TZOFFSETTO:+0000
TZNAME:GMT
DTSTART:20251026T010000
END:DAYLIGHT
BEGIN:STANDARD
TZOFFSETFROM:+0000
TZOFFSETTO:+0100
TZNAME:IST
DTSTART:20260329T010000
END:STANDARD
BEGIN:DAYLIGHT
TZOFFSETFROM:+0100
TZOFFSETTO:+0000
TZNAME:GMT
DTSTART:20261025T010000
END:DAYLIGHT
END:VTIMEZONE
BEGIN:VEVENT
DTSTART;TZID=Europe/London:20251117T000000
DTEND;TZID=Europe/London:20251121T000000
DTSTAMP:20260422T225245
CREATED:20250303T084415Z
LAST-MODIFIED:20250311T084700Z
UID:10000022-1763337600-1763683200@futurecast.info
SUMMARY:Mate 5 Day (12)
DESCRIPTION:Future Cast Electrical Mate Programme  5-Day Training \nJoin our intensive 5-day Electrical Mate Training Programme designed to equip participants with essential skills for industrial environments. Hosted at our state-of-the-art Future Cast Mechanical & Electrical Training Facility\, this hands-on course covers manual handling\, hand tools\, cable tray assembly\, packaging\, pallet operations\, and working at height. With a strong focus on safety\, practical exercises\, and real-world applications\, this programme prepares trainees for direct full-time employment. Earn an Amber Safety Certificate of Completion\, valid for three years. Secure your place today and take the first step towards a rewarding career in the electrical industry! \n\nEnquire Now
URL:https://futurecast.info/event/mate-5-day-12-5/
END:VEVENT
BEGIN:VEVENT
DTSTART;TZID=Europe/London:20251118T000000
DTEND;TZID=Europe/London:20251118T000000
DTSTAMP:20260422T225245
CREATED:20250303T084539Z
LAST-MODIFIED:20250311T085518Z
UID:10000032-1763424000-1763424000@futurecast.info
SUMMARY:Abrasive Wheel
DESCRIPTION:Future Cast Electrical Mate Programme  5-Day Training \nJoin our intensive 5-day Electrical Mate Training Programme designed to equip participants with essential skills for industrial environments. Hosted at our state-of-the-art Future Cast Mechanical & Electrical Training Facility\, this hands-on course covers manual handling\, hand tools\, cable tray assembly\, packaging\, pallet operations\, and working at height. With a strong focus on safety\, practical exercises\, and real-world applications\, this programme prepares trainees for direct full-time employment. Earn an Amber Safety Certificate of Completion\, valid for three years. Secure your place today and take the first step towards a rewarding career in the electrical industry! \n\nEnquire Now
URL:https://futurecast.info/event/abrasive-wheel-5/
END:VEVENT
BEGIN:VEVENT
DTSTART;TZID=Europe/London:20251119T000000
DTEND;TZID=Europe/London:20251119T000000
DTSTAMP:20260422T225245
CREATED:20250303T084553Z
LAST-MODIFIED:20250311T085524Z
UID:10000037-1763510400-1763510400@futurecast.info
SUMMARY:Power Tools
DESCRIPTION:Future Cast Electrical Mate Programme  5-Day Training \nJoin our intensive 5-day Electrical Mate Training Programme designed to equip participants with essential skills for industrial environments. Hosted at our state-of-the-art Future Cast Mechanical & Electrical Training Facility\, this hands-on course covers manual handling\, hand tools\, cable tray assembly\, packaging\, pallet operations\, and working at height. With a strong focus on safety\, practical exercises\, and real-world applications\, this programme prepares trainees for direct full-time employment. Earn an Amber Safety Certificate of Completion\, valid for three years. Secure your place today and take the first step towards a rewarding career in the electrical industry! \n\nEnquire Now
URL:https://futurecast.info/event/power-tools-5/
END:VEVENT
BEGIN:VEVENT
DTSTART;TZID=Europe/London:20251119T000000
DTEND;TZID=Europe/London:20251119T000000
DTSTAMP:20260422T225245
CREATED:20250303T084722Z
LAST-MODIFIED:20250311T085724Z
UID:10000042-1763510400-1763510400@futurecast.info
SUMMARY:Cable Tray Assemblies
DESCRIPTION:Future Cast Electrical Mate Programme  5-Day Training \nJoin our intensive 5-day Electrical Mate Training Programme designed to equip participants with essential skills for industrial environments. Hosted at our state-of-the-art Future Cast Mechanical & Electrical Training Facility\, this hands-on course covers manual handling\, hand tools\, cable tray assembly\, packaging\, pallet operations\, and working at height. With a strong focus on safety\, practical exercises\, and real-world applications\, this programme prepares trainees for direct full-time employment. Earn an Amber Safety Certificate of Completion\, valid for three years. Secure your place today and take the first step towards a rewarding career in the electrical industry! \n\nEnquire Now
URL:https://futurecast.info/event/cable-tray-assemblies-5/
END:VEVENT
BEGIN:VEVENT
DTSTART;TZID=Europe/Dublin:20251119T093000
DTEND;TZID=Europe/Dublin:20251119T093000
DTSTAMP:20260422T225245
CREATED:20250311T083800Z
LAST-MODIFIED:20250311T083800Z
UID:10000121-1763544600-1763544600@futurecast.info
SUMMARY:QQI Train the trainer
DESCRIPTION:Dates: 3-Day Online Course \nFull Price: 495 / Free for Jobseekers:  \nFREE to Jobseekers \nThis QQI Level 6 Certified Train the Trainer course equips you with the skills to effectively plan and deliver impactful training sessions. It is suitable for anyone working in training across various sectors such as offices\, factories\, retail\, and more. \nCourse Aim: \nUnderstand the principles of adult learning and the 4 Stages of Learning. \nIdentify training needs and compile a Training Needs Analysis (TNA) report. \nDevelop and deliver training content using a variety of methods and training aids. \nDesign effective training sessions and overcome challenges like difficult delegates. \nEvaluate training effectiveness using Kirkpatricks 4 levels of evaluation. \nRead the full course description HERE \nContact Details: \nE: metac@futurecast.info \n\nEnquire Now
URL:https://futurecast.info/event/qqi-train-the-trainer-20/
CATEGORIES:Project Management
END:VEVENT
BEGIN:VEVENT
DTSTART;TZID=Europe/London:20251120T000000
DTEND;TZID=Europe/London:20251120T000000
DTSTAMP:20260422T225245
CREATED:20250303T084922Z
LAST-MODIFIED:20250311T085924Z
UID:10000047-1763596800-1763596800@futurecast.info
SUMMARY:Manual Power Pallet
DESCRIPTION:Future Cast Electrical Mate Programme  5-Day Training \nJoin our intensive 5-day Electrical Mate Training Programme designed to equip participants with essential skills for industrial environments. Hosted at our state-of-the-art Future Cast Mechanical & Electrical Training Facility\, this hands-on course covers manual handling\, hand tools\, cable tray assembly\, packaging\, pallet operations\, and working at height. With a strong focus on safety\, practical exercises\, and real-world applications\, this programme prepares trainees for direct full-time employment. Earn an Amber Safety Certificate of Completion\, valid for three years. Secure your place today and take the first step towards a rewarding career in the electrical industry! \n\nEnquire Now
URL:https://futurecast.info/event/manual-power-pallet-5/
END:VEVENT
BEGIN:VEVENT
DTSTART;TZID=Europe/London:20251121T000000
DTEND;TZID=Europe/London:20251121T000000
DTSTAMP:20260422T225245
CREATED:20250303T085121Z
LAST-MODIFIED:20250311T090124Z
UID:10000052-1763683200-1763683200@futurecast.info
SUMMARY:Working at Height
DESCRIPTION:Future Cast Electrical Mate Programme  5-Day Training \nJoin our intensive 5-day Electrical Mate Training Programme designed to equip participants with essential skills for industrial environments. Hosted at our state-of-the-art Future Cast Mechanical & Electrical Training Facility\, this hands-on course covers manual handling\, hand tools\, cable tray assembly\, packaging\, pallet operations\, and working at height. With a strong focus on safety\, practical exercises\, and real-world applications\, this programme prepares trainees for direct full-time employment. Earn an Amber Safety Certificate of Completion\, valid for three years. Secure your place today and take the first step towards a rewarding career in the electrical industry! \n\nEnquire Now
URL:https://futurecast.info/event/working-at-height-5/
END:VEVENT
BEGIN:VEVENT
DTSTART;TZID=Europe/Dublin:20251126T093000
DTEND;TZID=Europe/Dublin:20251126T093000
DTSTAMP:20260422T225245
CREATED:20250311T083845Z
LAST-MODIFIED:20250311T083845Z
UID:10000136-1764149400-1764149400@futurecast.info
SUMMARY:QQI Effective People Management
DESCRIPTION:Dates: 3 Consecutive days Online course via Zoom from 9:30am to 15:00pm each day \nFull Price 495 / Free for Jobseekers  \nFunding available for Jobseekers \nThis practical course enables you to overcome barriers to effectively and confidently deliver high impact training. This Certified People Management course will show you how to motivate and manage others\, obtain the core management skills and a recognised certification. \nCourse Aim: \nUse effective skills for leading\, managing and motivating a team. \nDeveloped communication and influencing techniques. \nManage different personalities and encourage mutual respect and cooperation. \nManage effective team meetings and carry out delegation duties assertively. \nResolve conflict and deal with difficult people and situations confidently and positively. \nHave a personal action plan to apply learning back on the job \nRead the full course description HERE \nContact Details: \nE: metac@futurecast.info \n\nEnquire Now
URL:https://futurecast.info/event/qqi-effective-people-management-10/
CATEGORIES:Project Management
END:VEVENT
BEGIN:VEVENT
DTSTART;TZID=Europe/London:20251128T000000
DTEND;TZID=Europe/London:20251128T000000
DTSTAMP:20260422T225245
CREATED:20250303T085322Z
LAST-MODIFIED:20250311T090524Z
UID:10000060-1764288000-1764288000@futurecast.info
SUMMARY:Autocad Introduction
DESCRIPTION:Introduction to AutoCAD  4-Hour Course \nKickstart your journey into 2D design and drafting with our Introduction to AutoCAD course. In just four hours\, you’ll master essential commands to navigate the AutoCAD interface\, create precise technical drawings\, and use fundamental drafting tools. Learn how to work with layers\, modify objects\, and develop accurate designs using AutoCAD and AutoCAD LT. This hands-on course is perfect for beginners looking to build a strong foundation in professional drafting. Upon completion\, youll receive an Autodesk Authorized Training Certificate. Take the first step toward mastering AutoCADenroll today and enhance your technical drawing skills with expert guidance! \n\nEnquire Now
URL:https://futurecast.info/event/autocad-introduction-8/
END:VEVENT
BEGIN:VEVENT
DTSTART;TZID=Europe/Dublin:20251203T093000
DTEND;TZID=Europe/Dublin:20251203T093000
DTSTAMP:20260422T225245
CREATED:20250311T083801Z
LAST-MODIFIED:20250311T083801Z
UID:10000122-1764754200-1764754200@futurecast.info
SUMMARY:QQI Train the trainer
DESCRIPTION:Dates: 3-Day Online Course \nFull Price: 495 / Free for Jobseekers:  \nFREE to Jobseekers \nThis QQI Level 6 Certified Train the Trainer course equips you with the skills to effectively plan and deliver impactful training sessions. It is suitable for anyone working in training across various sectors such as offices\, factories\, retail\, and more. \nCourse Aim: \nUnderstand the principles of adult learning and the 4 Stages of Learning. \nIdentify training needs and compile a Training Needs Analysis (TNA) report. \nDevelop and deliver training content using a variety of methods and training aids. \nDesign effective training sessions and overcome challenges like difficult delegates. \nEvaluate training effectiveness using Kirkpatricks 4 levels of evaluation. \nRead the full course description HERE \nContact Details: \nE: metac@futurecast.info \n\nEnquire Now
URL:https://futurecast.info/event/qqi-train-the-trainer-21/
CATEGORIES:Project Management
END:VEVENT
BEGIN:VEVENT
DTSTART;TZID=Europe/London:20251205T000000
DTEND;TZID=Europe/London:20251205T000000
DTSTAMP:20260422T225245
CREATED:20250303T085523Z
LAST-MODIFIED:20250311T092041Z
UID:10000065-1764892800-1764892800@futurecast.info
SUMMARY:Revit Introduction
DESCRIPTION:Introduction to Revit  4-Hour Course \nUnlock the fundamentals of 3D design with our Introduction to Revit course. In just four hours\, you’ll learn essential commands for professional drafting\, modeling\, and design. This course covers Building Information Modeling (BIM)\, user interface navigation\, Revit elements\, and precision drafting tools to create a small building envelope. Gain hands-on experience in modifying walls\, adding doors and windows\, and working with families and components. Perfect for beginners\, this course provides a strong foundation for further Revit training. Upon completion\, receive an Autodesk Authorized Training Certificate. Enroll today and take your first step into the world of Revit! \n\nEnquire Now
URL:https://futurecast.info/event/revit-introduction-5/
END:VEVENT
BEGIN:VEVENT
DTSTART;TZID=Europe/London:20251208T000000
DTEND;TZID=Europe/London:20251212T000000
DTSTAMP:20260422T225245
CREATED:20250311T092718Z
LAST-MODIFIED:20250311T092718Z
UID:10000156-1765152000-1765497600@futurecast.info
SUMMARY:Welding MMA (BS EN ISO 9606-1:2013)
DESCRIPTION:Manual Metal Arc (MMA) Welding Course \nDiscover the versatility of Manual Metal Arc (MMA) welding in our hands-on training course. Ideal for DIYers\, tradespeople\, and metal fabricators\, MMA welding is one of the most widely used techniques in the industry. Learn how to create high-intensity electric arcs to join metals using shielded electrodes. Our expert instructors will guide you through proper techniques\, safety measures\, and real-world applications. By the end of the course\, youll have the confidence and skills to perform high-quality welds across various projects. Certification is available upon successful completion. Enroll today and master the art of MMA welding! \n\nEnquire Now
URL:https://futurecast.info/event/welding-mma-bs-en-iso-9606-12013-3/
END:VEVENT
BEGIN:VEVENT
DTSTART;TZID=Europe/London:20260804T000000
DTEND;TZID=Europe/London:20260804T000000
DTSTAMP:20260422T225245
CREATED:20250303T085555Z
LAST-MODIFIED:20250311T092046Z
UID:10000074-1785801600-1785801600@futurecast.info
SUMMARY:Electrical Safety Awareness online
DESCRIPTION:Electrical Safety Awareness  Online Course \nEnsure workplace safety with our Electrical Safety Awareness online course\, designed to educate professionals on electrical hazards and best safety practices. Ideal for electricians\, contractors\, maintenance technicians\, and engineers\, this course aligns with the Safety\, Health\, and Welfare at Work Act 2007. Learn about live work hazards\, circuit protection\, risk assessment\, and lockout/tagout (LOTO) procedures. Gain a deep understanding of electrical principles\, shock factors\, and de-energized work protocols. Complete the course with an online assessment and earn a Technotraining Certificate of Achievement. Enroll today to enhance your electrical safety knowledge and reduce workplace risks! \n\nEnquire Now
URL:https://futurecast.info/event/electrical-safety-awareness-online-3/
END:VEVENT
BEGIN:VEVENT
DTSTART;TZID=Europe/London:20260808T000000
DTEND;TZID=Europe/London:20260808T000000
DTSTAMP:20260422T225245
CREATED:20250303T085522Z
LAST-MODIFIED:20250311T090525Z
UID:10000063-1786147200-1786147200@futurecast.info
SUMMARY:Revit Introduction
DESCRIPTION:Introduction to Revit  4-Hour Course \nUnlock the fundamentals of 3D design with our Introduction to Revit course. In just four hours\, you’ll learn essential commands for professional drafting\, modeling\, and design. This course covers Building Information Modeling (BIM)\, user interface navigation\, Revit elements\, and precision drafting tools to create a small building envelope. Gain hands-on experience in modifying walls\, adding doors and windows\, and working with families and components. Perfect for beginners\, this course provides a strong foundation for further Revit training. Upon completion\, receive an Autodesk Authorized Training Certificate. Enroll today and take your first step into the world of Revit! \n\nEnquire Now
URL:https://futurecast.info/event/revit-introduction-3/
END:VEVENT
END:VCALENDAR