BEGIN:VCALENDAR
VERSION:2.0
PRODID:-//Future Cast - ECPv6.15.20//NONSGML v1.0//EN
CALSCALE:GREGORIAN
METHOD:PUBLISH
X-WR-CALNAME:Future Cast
X-ORIGINAL-URL:https://futurecast.info
X-WR-CALDESC:Events for Future Cast
REFRESH-INTERVAL;VALUE=DURATION:PT1H
X-Robots-Tag:noindex
X-PUBLISHED-TTL:PT1H
BEGIN:VTIMEZONE
TZID:Europe/London
BEGIN:DAYLIGHT
TZOFFSETFROM:+0000
TZOFFSETTO:+0100
TZNAME:BST
DTSTART:20250330T010000
END:DAYLIGHT
BEGIN:STANDARD
TZOFFSETFROM:+0100
TZOFFSETTO:+0000
TZNAME:GMT
DTSTART:20251026T010000
END:STANDARD
BEGIN:DAYLIGHT
TZOFFSETFROM:+0000
TZOFFSETTO:+0100
TZNAME:BST
DTSTART:20260329T010000
END:DAYLIGHT
BEGIN:STANDARD
TZOFFSETFROM:+0100
TZOFFSETTO:+0000
TZNAME:GMT
DTSTART:20261025T010000
END:STANDARD
BEGIN:DAYLIGHT
TZOFFSETFROM:+0000
TZOFFSETTO:+0100
TZNAME:BST
DTSTART:20270328T010000
END:DAYLIGHT
BEGIN:STANDARD
TZOFFSETFROM:+0100
TZOFFSETTO:+0000
TZNAME:GMT
DTSTART:20271031T010000
END:STANDARD
END:VTIMEZONE
BEGIN:VEVENT
DTSTART;TZID=Europe/London:20260804T000000
DTEND;TZID=Europe/London:20260804T000000
DTSTAMP:20260422T224907
CREATED:20250303T085555Z
LAST-MODIFIED:20250311T092046Z
UID:10000074-1785801600-1785801600@futurecast.info
SUMMARY:Electrical Safety Awareness online
DESCRIPTION:Electrical Safety Awareness  Online Course \nEnsure workplace safety with our Electrical Safety Awareness online course\, designed to educate professionals on electrical hazards and best safety practices. Ideal for electricians\, contractors\, maintenance technicians\, and engineers\, this course aligns with the Safety\, Health\, and Welfare at Work Act 2007. Learn about live work hazards\, circuit protection\, risk assessment\, and lockout/tagout (LOTO) procedures. Gain a deep understanding of electrical principles\, shock factors\, and de-energized work protocols. Complete the course with an online assessment and earn a Technotraining Certificate of Achievement. Enroll today to enhance your electrical safety knowledge and reduce workplace risks! \n\nEnquire Now
URL:https://futurecast.info/event/electrical-safety-awareness-online-3/
END:VEVENT
BEGIN:VEVENT
DTSTART;TZID=Europe/London:20260808T000000
DTEND;TZID=Europe/London:20260808T000000
DTSTAMP:20260422T224907
CREATED:20250303T085522Z
LAST-MODIFIED:20250311T090525Z
UID:10000063-1786147200-1786147200@futurecast.info
SUMMARY:Revit Introduction
DESCRIPTION:Introduction to Revit  4-Hour Course \nUnlock the fundamentals of 3D design with our Introduction to Revit course. In just four hours\, you’ll learn essential commands for professional drafting\, modeling\, and design. This course covers Building Information Modeling (BIM)\, user interface navigation\, Revit elements\, and precision drafting tools to create a small building envelope. Gain hands-on experience in modifying walls\, adding doors and windows\, and working with families and components. Perfect for beginners\, this course provides a strong foundation for further Revit training. Upon completion\, receive an Autodesk Authorized Training Certificate. Enroll today and take your first step into the world of Revit! \n\nEnquire Now
URL:https://futurecast.info/event/revit-introduction-3/
END:VEVENT
END:VCALENDAR