BEGIN:VCALENDAR
VERSION:2.0
PRODID:-//Future Cast - ECPv6.15.20//NONSGML v1.0//EN
CALSCALE:GREGORIAN
METHOD:PUBLISH
X-ORIGINAL-URL:https://futurecast.info
X-WR-CALDESC:Events for Future Cast
REFRESH-INTERVAL;VALUE=DURATION:PT1H
X-Robots-Tag:noindex
X-PUBLISHED-TTL:PT1H
BEGIN:VTIMEZONE
TZID:Europe/London
BEGIN:DAYLIGHT
TZOFFSETFROM:+0000
TZOFFSETTO:+0100
TZNAME:BST
DTSTART:20240331T010000
END:DAYLIGHT
BEGIN:STANDARD
TZOFFSETFROM:+0100
TZOFFSETTO:+0000
TZNAME:GMT
DTSTART:20241027T010000
END:STANDARD
BEGIN:DAYLIGHT
TZOFFSETFROM:+0000
TZOFFSETTO:+0100
TZNAME:BST
DTSTART:20250330T010000
END:DAYLIGHT
BEGIN:STANDARD
TZOFFSETFROM:+0100
TZOFFSETTO:+0000
TZNAME:GMT
DTSTART:20251026T010000
END:STANDARD
BEGIN:DAYLIGHT
TZOFFSETFROM:+0000
TZOFFSETTO:+0100
TZNAME:BST
DTSTART:20260329T010000
END:DAYLIGHT
BEGIN:STANDARD
TZOFFSETFROM:+0100
TZOFFSETTO:+0000
TZNAME:GMT
DTSTART:20261025T010000
END:STANDARD
END:VTIMEZONE
BEGIN:VEVENT
DTSTART;TZID=Europe/London:20251117T000000
DTEND;TZID=Europe/London:20251121T000000
DTSTAMP:20260422T183112
CREATED:20250303T084415Z
LAST-MODIFIED:20250311T084700Z
UID:10000022-1763337600-1763683200@futurecast.info
SUMMARY:Mate 5 Day (12)
DESCRIPTION:Future Cast Electrical Mate Programme  5-Day Training \nJoin our intensive 5-day Electrical Mate Training Programme designed to equip participants with essential skills for industrial environments. Hosted at our state-of-the-art Future Cast Mechanical & Electrical Training Facility\, this hands-on course covers manual handling\, hand tools\, cable tray assembly\, packaging\, pallet operations\, and working at height. With a strong focus on safety\, practical exercises\, and real-world applications\, this programme prepares trainees for direct full-time employment. Earn an Amber Safety Certificate of Completion\, valid for three years. Secure your place today and take the first step towards a rewarding career in the electrical industry! \n\nEnquire Now
URL:https://futurecast.info/event/mate-5-day-12-5/
END:VEVENT
END:VCALENDAR