BEGIN:VCALENDAR
VERSION:2.0
PRODID:-//Future Cast - ECPv6.15.20//NONSGML v1.0//EN
CALSCALE:GREGORIAN
METHOD:PUBLISH
X-ORIGINAL-URL:https://futurecast.info
X-WR-CALDESC:Events for Future Cast
REFRESH-INTERVAL;VALUE=DURATION:PT1H
X-Robots-Tag:noindex
X-PUBLISHED-TTL:PT1H
BEGIN:VTIMEZONE
TZID:Europe/London
BEGIN:DAYLIGHT
TZOFFSETFROM:+0000
TZOFFSETTO:+0100
TZNAME:BST
DTSTART:20240331T010000
END:DAYLIGHT
BEGIN:STANDARD
TZOFFSETFROM:+0100
TZOFFSETTO:+0000
TZNAME:GMT
DTSTART:20241027T010000
END:STANDARD
BEGIN:DAYLIGHT
TZOFFSETFROM:+0000
TZOFFSETTO:+0100
TZNAME:BST
DTSTART:20250330T010000
END:DAYLIGHT
BEGIN:STANDARD
TZOFFSETFROM:+0100
TZOFFSETTO:+0000
TZNAME:GMT
DTSTART:20251026T010000
END:STANDARD
BEGIN:DAYLIGHT
TZOFFSETFROM:+0000
TZOFFSETTO:+0100
TZNAME:BST
DTSTART:20260329T010000
END:DAYLIGHT
BEGIN:STANDARD
TZOFFSETFROM:+0100
TZOFFSETTO:+0000
TZNAME:GMT
DTSTART:20261025T010000
END:STANDARD
END:VTIMEZONE
BEGIN:VEVENT
DTSTART;TZID=Europe/London:20251006T000000
DTEND;TZID=Europe/London:20251010T000000
DTSTAMP:20260422T195205
CREATED:20250303T090158Z
LAST-MODIFIED:20250311T092517Z
UID:10000089-1759708800-1760054400@futurecast.info
SUMMARY:Welding MIG  BS EN ISO 9606-1:2013
DESCRIPTION:Metal Inert Gas (MIG) Welding Course \nAdvance your welding skills with our Metal Inert Gas (MIG) welding course\, perfect for beginners and professionals alike. MIG welding is widely used in fabrication\, shipbuilding\, and heavy machinery production. This semi-automated process allows for precision and efficiency\, melting and fusing metals with an electric arc and filler wire. Our training covers essential techniques\, shielding gas applications\, and troubleshooting common issues. With hands-on experience and expert instruction\, you’ll gain the expertise needed to produce clean\, strong welds. Certification is available upon completion. Take the next step in your welding career with our MIG welding course! \n\nEnquire Now
URL:https://futurecast.info/event/welding-mig-bs-en-iso-9606-12013-3/
END:VEVENT
END:VCALENDAR