BEGIN:VCALENDAR
VERSION:2.0
PRODID:-//Future Cast - ECPv6.15.20//NONSGML v1.0//EN
CALSCALE:GREGORIAN
METHOD:PUBLISH
X-WR-CALNAME:Future Cast
X-ORIGINAL-URL:https://futurecast.info
X-WR-CALDESC:Events for Future Cast
REFRESH-INTERVAL;VALUE=DURATION:PT1H
X-Robots-Tag:noindex
X-PUBLISHED-TTL:PT1H
BEGIN:VTIMEZONE
TZID:Europe/Dublin
BEGIN:STANDARD
TZOFFSETFROM:+0000
TZOFFSETTO:+0100
TZNAME:IST
DTSTART:20240331T010000
END:STANDARD
BEGIN:DAYLIGHT
TZOFFSETFROM:+0100
TZOFFSETTO:+0000
TZNAME:GMT
DTSTART:20241027T010000
END:DAYLIGHT
BEGIN:STANDARD
TZOFFSETFROM:+0000
TZOFFSETTO:+0100
TZNAME:IST
DTSTART:20250330T010000
END:STANDARD
BEGIN:DAYLIGHT
TZOFFSETFROM:+0100
TZOFFSETTO:+0000
TZNAME:GMT
DTSTART:20251026T010000
END:DAYLIGHT
BEGIN:STANDARD
TZOFFSETFROM:+0000
TZOFFSETTO:+0100
TZNAME:IST
DTSTART:20260329T010000
END:STANDARD
BEGIN:DAYLIGHT
TZOFFSETFROM:+0100
TZOFFSETTO:+0000
TZNAME:GMT
DTSTART:20261025T010000
END:DAYLIGHT
END:VTIMEZONE
BEGIN:VEVENT
DTSTART;TZID=Europe/Dublin:20251001T093000
DTEND;TZID=Europe/Dublin:20251001T093000
DTSTAMP:20260422T195053
CREATED:20250311T083901Z
LAST-MODIFIED:20250311T083901Z
UID:10000139-1759311000-1759311000@futurecast.info
SUMMARY:QQI Project Management
DESCRIPTION:Dates: 3 consecutive days online via Zoom from 9:30am to 15:00pm each day. \nFull Price 495 / Free for Jobseekers  \nFunding available for Jobseekers \nThis Certified Project Management course is designed to equip learners with essential knowledge\, skills and competencies to plan\, implement and review projects. \nCourse Aims: \nManage a project taking corrective action where necessary to meet agreed goals. \nEvaluate the methodology and process of a selected project. \nUtilise financial planning and budget models within the context of managing a project. \nDevise a risk analysis for a project to include the preparation of a contingency plan. \nCommunicate project management planning operations. \nInvestigate a range of approaches to plan\, cost and manage a project. \nCertification: \nAfter successfully completing the course and assessments\, you will be awarded with a QQI Level 6 Project Management Certification. \nRead the full course description HERE \nContact Details: \nE: metac@futurecast.info \n\nEnquire Now
URL:https://futurecast.info/event/qqi-project-management-4/
CATEGORIES:Project Management
END:VEVENT
END:VCALENDAR