BEGIN:VCALENDAR
VERSION:2.0
PRODID:-//Future Cast - ECPv6.15.20//NONSGML v1.0//EN
CALSCALE:GREGORIAN
METHOD:PUBLISH
X-ORIGINAL-URL:https://futurecast.info
X-WR-CALDESC:Events for Future Cast
REFRESH-INTERVAL;VALUE=DURATION:PT1H
X-Robots-Tag:noindex
X-PUBLISHED-TTL:PT1H
BEGIN:VTIMEZONE
TZID:Europe/Dublin
BEGIN:STANDARD
TZOFFSETFROM:+0000
TZOFFSETTO:+0100
TZNAME:IST
DTSTART:20240331T010000
END:STANDARD
BEGIN:DAYLIGHT
TZOFFSETFROM:+0100
TZOFFSETTO:+0000
TZNAME:GMT
DTSTART:20241027T010000
END:DAYLIGHT
BEGIN:STANDARD
TZOFFSETFROM:+0000
TZOFFSETTO:+0100
TZNAME:IST
DTSTART:20250330T010000
END:STANDARD
BEGIN:DAYLIGHT
TZOFFSETFROM:+0100
TZOFFSETTO:+0000
TZNAME:GMT
DTSTART:20251026T010000
END:DAYLIGHT
BEGIN:STANDARD
TZOFFSETFROM:+0000
TZOFFSETTO:+0100
TZNAME:IST
DTSTART:20260329T010000
END:STANDARD
BEGIN:DAYLIGHT
TZOFFSETFROM:+0100
TZOFFSETTO:+0000
TZNAME:GMT
DTSTART:20261025T010000
END:DAYLIGHT
END:VTIMEZONE
BEGIN:VEVENT
DTSTART;TZID=Europe/Dublin:20250924T093000
DTEND;TZID=Europe/Dublin:20250924T093000
DTSTAMP:20260423T055614
CREATED:20250311T083745Z
LAST-MODIFIED:20250311T083745Z
UID:10000117-1758706200-1758706200@futurecast.info
SUMMARY:QQI Train the trainer
DESCRIPTION:Dates: 3-Day Online Course \nFull Price: 495 / Free for Jobseekers:  \nFREE to Jobseekers \nThis QQI Level 6 Certified Train the Trainer course equips you with the skills to effectively plan and deliver impactful training sessions. It is suitable for anyone working in training across various sectors such as offices\, factories\, retail\, and more. \nCourse Aim: \nUnderstand the principles of adult learning and the 4 Stages of Learning. \nIdentify training needs and compile a Training Needs Analysis (TNA) report. \nDevelop and deliver training content using a variety of methods and training aids. \nDesign effective training sessions and overcome challenges like difficult delegates. \nEvaluate training effectiveness using Kirkpatricks 4 levels of evaluation. \nRead the full course description HERE \nContact Details: \nE: metac@futurecast.info \n\nEnquire Now
URL:https://futurecast.info/event/qqi-train-the-trainer-16/
CATEGORIES:Project Management
END:VEVENT
END:VCALENDAR